BEGIN:VCALENDAR
VERSION:2.0
CREATED:20260424T091126Z
PRODID:-//Local Bounti Corporation/Equisolve Calendar v1.0//EN
METHOD:PUBLISH
BEGIN:VEVENT
UID:64848e5be0a587a4de357001374de451
DTSTAMP:20260425T112708Z
DTSTART:20260610T150000Z
DTEND:20260610T160000Z
SUMMARY:Annual Meeting of Stockholders
DESCRIPTION:Annual Meeting of Stockholders
Date: Jun 10\, 2026 9:00 am MDT
Webcast: https://east.virtualshareholdermeeting.com/vsm/web?pvskey=LOCL2026
END:VEVENT
END:VCALENDAR
